BEGIN:VCALENDAR
VERSION:2.0
CALSCALE:GREGORIAN
PRODID:adamgibbons/ics
METHOD:PUBLISH
X-PUBLISHED-TTL:PT1H
BEGIN:VEVENT
UID:61@tucsontimeline.info
SUMMARY:El Chisme 2024
DTSTAMP:20260423T082021Z
DTSTART:20241026T210000Z
DTEND:20241027T050000Z
DESCRIPTION:good food\, powerful conversations\, local vendors\, and some s
	erious political\nchisme. We’re partnering with our compas at Common Defen
	se and Chicano Vibez\, a\nvibrant festival celebrating Tucson's Hip-Hop cu
	lture\, featuring a B-Boy dance\ncompetition\, live graffiti art\, and mor
	e. You can also catch performances by\nMariachi Las Aguilitas de Davis\, D
	odge Magnet Folklorico\, and Borderlands\nTheater– with Las Cafeteras head
	lining our event!\n\nWe’ll also be partnering with our young compas Deja F
	oxx\, Daniel Trujillo\, and\nEddie Baron\, who will lead us in Rallying Fo
	r Our Future: a powerful panel on\nthe importance of young folks’ leadersh
	ip in our movement.\n\nJoin us on Saturday\, October 26\, 2024\, from 2:00
	 PM - 10:00 PM at MSA Annex\, 267\nS Avenida Del Convento\, Tucson\, AZ 85
	745.\n[https://click.everyaction.com/k/95585476/507212236/1786210935?ms=20
	241022_email_ElChismeTucson&utm_source=20241022_email_elchismetucson&refco
	de=20241022_email_ElChismeTucson&nvep=ew0KICAiVGVuYW50VXJpIjogIm5ncHZhbjov
	L3Zhbi9UU00vVFNNTUovMS83NjU3OCIsDQogICJEaXN0cmlidXRpb25VbmlxdWVJZCI6ICIyMD
	ljODlhMy1hMzkwLWVmMTEtODQ3NC0wMDBkM2E5OGZhNmIiLA0KICAiRW1haWxBZGRyZXNzIjog
	InJhbmRvbWp1bmtAZGF0YW1hc3NhZ2UuY29tIg0KfQ%3D%3D&hmac=dhbi5ybaX7iMdM-05Ipa
	MrTmS0EMZeh66o1i_AIL79w=&emci=6e7e7c5c-9790-ef11-8474-000d3a98fa6b&emdi=20
	9c89a3-a390-ef11-8474-000d3a98fa6b&ceid=106020]\nWe’re creating a space to
	 connect\, strategize\, and chismear about what’s at\nstake in this\n\n\n\
	nelection\, all while celebrating the strength of nuestra gente. Whether y
	ou’re\ncoming for the food\, the music\, or the political power building\,
	 we want you\nthere with us.
URL:https://tucsontimeline.info/event/el-chisme-2024
GEO:32.2184;-110.984
LOCATION:Mercado Annex - MSA Annex\, Tucson\, Pima County\, Arizona\, Unite
	d States
STATUS:CONFIRMED
CATEGORIES:activism,food,good causes,music,performance
X-ALT-DESC;FMTTYPE=text/html:<p>good food, powerful conversations, local ve
	ndors, and some serious political chisme. We’re partnering with our compas
	 at <strong>Common Defense </strong>and <strong>Chicano Vibez</strong>, a 
	vibrant festival celebrating Tucson's Hip-Hop culture, featuring a B-Boy d
	ance competition, live graffiti art, and more. You can also catch performa
	nces by <strong>Mariachi Las Aguilitas de Davis, Dodge Magnet Folklorico, 
	</strong>and <strong>Borderlands Theater</strong>– with <strong>Las Cafete
	ras</strong> headlining our event!</p><p>We’ll also be partnering with our
	 young compas <strong>Deja Foxx, Daniel Trujillo</strong>, and <strong>Edd
	ie Baron, </strong>who will lead us in <strong>Rallying For Our Future: </
	strong>a powerful panel on the importance of young folks’ leadership in ou
	r movement.</p><p><a target="_blank" href="https://click.everyaction.com/k
	/95585476/507212236/1786210935?ms=20241022_email_ElChismeTucson&amp;utm_so
	urce=20241022_email_elchismetucson&amp;refcode=20241022_email_ElChismeTucs
	on&amp;nvep=ew0KICAiVGVuYW50VXJpIjogIm5ncHZhbjovL3Zhbi9UU00vVFNNTUovMS83Nj
	U3OCIsDQogICJEaXN0cmlidXRpb25VbmlxdWVJZCI6ICIyMDljODlhMy1hMzkwLWVmMTEtODQ3
	NC0wMDBkM2E5OGZhNmIiLA0KICAiRW1haWxBZGRyZXNzIjogInJhbmRvbWp1bmtAZGF0YW1hc3
	NhZ2UuY29tIg0KfQ%3D%3D&amp;hmac=dhbi5ybaX7iMdM-05IpaMrTmS0EMZeh66o1i_AIL79
	w=&amp;emci=6e7e7c5c-9790-ef11-8474-000d3a98fa6b&amp;emdi=209c89a3-a390-ef
	11-8474-000d3a98fa6b&amp;ceid=106020"><strong><u>Join us on Saturday, Octo
	ber 26, 2024, from 2:00 PM - 10:00 PM at MSA Annex, 267 S Avenida Del Conv
	ento, Tucson, AZ 85745.</u></strong></a><strong> </strong>We’re creating a
	 space to connect, strategize, and chismear about what’s at stake in this<
	/p><p></p><p>election, all while celebrating the strength of nuestra gente
	. Whether you’re coming for the food, the music, or the political power bu
	ilding, we want you there with us.</p>
END:VEVENT
END:VCALENDAR
